BEGIN:VCALENDAR
VERSION:2.0
PRODID:-//Praying4You Ministries, Inc. - ECPv6.15.20//NONSGML v1.0//EN
CALSCALE:GREGORIAN
METHOD:PUBLISH
X-WR-CALNAME:Praying4You Ministries, Inc.
X-ORIGINAL-URL:https://praying4you.org
X-WR-CALDESC:Events for Praying4You Ministries, Inc.
REFRESH-INTERVAL;VALUE=DURATION:PT1H
X-Robots-Tag:noindex
X-PUBLISHED-TTL:PT1H
BEGIN:VTIMEZONE
TZID:UTC
BEGIN:STANDARD
TZOFFSETFROM:+0000
TZOFFSETTO:+0000
TZNAME:UTC
DTSTART:20240101T000000
END:STANDARD
END:VTIMEZONE
BEGIN:VEVENT
DTSTART;TZID=UTC:20250913T110000
DTEND;TZID=UTC:20250913T123000
DTSTAMP:20260423T234304
CREATED:20250908T202120Z
LAST-MODIFIED:20250908T202439Z
UID:4049-1757761200-1757766600@praying4you.org
SUMMARY:Real Women\, Real Talk
DESCRIPTION:Join us for a roundtable discussion\, for women\, by women. \n\nZoom Meetinghttps://us02web.zoom.us/j/85046790994…\nMeeting ID: 850 4679 0994Passcode: 803700
URL:https://praying4you.org/event/real-women-real-talk/
END:VEVENT
END:VCALENDAR