BEGIN:VCALENDAR
VERSION:2.0
PRODID:-//Praying4You Ministries, Inc. - ECPv6.15.20//NONSGML v1.0//EN
CALSCALE:GREGORIAN
METHOD:PUBLISH
X-ORIGINAL-URL:https://praying4you.org
X-WR-CALDESC:Events for Praying4You Ministries, Inc.
REFRESH-INTERVAL;VALUE=DURATION:PT1H
X-Robots-Tag:noindex
X-PUBLISHED-TTL:PT1H
BEGIN:VTIMEZONE
TZID:UTC
BEGIN:STANDARD
TZOFFSETFROM:+0000
TZOFFSETTO:+0000
TZNAME:UTC
DTSTART:20250101T000000
END:STANDARD
END:VTIMEZONE
BEGIN:VEVENT
DTSTART;TZID=UTC:20260426T080000
DTEND;TZID=UTC:20260426T170000
DTSTAMP:20260423T144011
CREATED:20250725T070042Z
LAST-MODIFIED:20250725T220100Z
UID:3937-1777190400-1777222800@praying4you.org
SUMMARY:Summit Sunday Worship Service
DESCRIPTION:The closing Sunday Worship Service of the Praying4You Ministries Annual Summit will be a powerful and spirit-filled conclusion to an incredible weekend of faith\, fellowship\, and transformation. This sacred gathering will be marked by heartfelt praise and worship\, a dynamic and encouraging Word\, and a special time of prayer and impartation. As we come together one final time\, we will celebrate all that God has done throughout the summit\, giving thanks for every breakthrough\, testimony\, and divine encounter. It will be a moment of renewal\, recommitment\, and rejoicing as we are sent forth—strengthened\, united\, and ready to continue walking boldly in purpose and faith.
URL:https://praying4you.org/event/summit-sunday-worship-service/
LOCATION:Regal Manor Clubhouse\, 549 Starlight\, Fort Mill\, SC\, 29715\, United States
END:VEVENT
END:VCALENDAR