BEGIN:VCALENDAR
VERSION:2.0
PRODID:-//Praying4You Ministries, Inc. - ECPv6.15.20//NONSGML v1.0//EN
CALSCALE:GREGORIAN
METHOD:PUBLISH
X-WR-CALNAME:Praying4You Ministries, Inc.
X-ORIGINAL-URL:https://praying4you.org
X-WR-CALDESC:Events for Praying4You Ministries, Inc.
REFRESH-INTERVAL;VALUE=DURATION:PT1H
X-Robots-Tag:noindex
X-PUBLISHED-TTL:PT1H
BEGIN:VTIMEZONE
TZID:UTC
BEGIN:STANDARD
TZOFFSETFROM:+0000
TZOFFSETTO:+0000
TZNAME:UTC
DTSTART:20240101T000000
END:STANDARD
END:VTIMEZONE
BEGIN:VEVENT
DTSTART;VALUE=DATE:20260425
DTEND;VALUE=DATE:20260426
DTSTAMP:20260423T172157
CREATED:20250725T215647Z
LAST-MODIFIED:20260105T165835Z
UID:3935-1777075200-1777161599@praying4you.org
SUMMARY:Summit - Main Event
DESCRIPTION:Praying4You Ministries will host its Annual Summit in 2026—a powerful\, day-long gathering filled with inspiration\, worship\, and community. This transformative event will feature dynamic speakers who will share life-giving messages rooted in faith and purpose. Throughout the day\, attendees will experience anointed praise and worship\, creating an atmosphere of spiritual renewal and connection with God. The summit will also offer rich opportunities for fellowship\, prayer\, and encouragement as believers from all walks of life come together to grow\, be refreshed\, and be empowered for the journey ahead. \nWe have secured a block of rooms at the Fairfield by Marriott Inn & Suites Charlotte Pineville. The king room rate is $139 plus applicable taxes per night. Call the hotel directly at  (704) 900-6007. State that you are with the Praying for You group to receive the stated rate.  \nNEW! \nThe Summit this year requires a registration fee of $100 per attendee. This is due by DECEMBER 31\, 2025. Payment can be made through CASHAPP\, ID# $P4YM. Note that payment is for the Annual Summit.
URL:https://praying4you.org/event/summit-main-event/
LOCATION:Regal Manor Clubhouse\, 549 Starlight\, Fort Mill\, SC\, 29715\, United States
END:VEVENT
BEGIN:VEVENT
DTSTART;TZID=UTC:20260424T180000
DTEND;TZID=UTC:20260424T210000
DTSTAMP:20260423T172157
CREATED:20250725T215434Z
LAST-MODIFIED:20250725T215434Z
UID:3933-1777053600-1777064400@praying4you.org
SUMMARY:Praying4You Annual Summit
DESCRIPTION:We’re kicking off the summit with a night of fun and laughter. This evening is designed to bring us all together in joy and unity.
URL:https://praying4you.org/event/praying4you-annual-summit/
LOCATION:Regal Manor Clubhouse\, 549 Starlight\, Fort Mill\, SC\, 29715\, United States
END:VEVENT
BEGIN:VEVENT
DTSTART;TZID=UTC:20250924T190000
DTEND;TZID=UTC:20250924T200000
DTSTAMP:20260423T172157
CREATED:20250829T000627Z
LAST-MODIFIED:20250904T002002Z
UID:4021-1758740400-1758744000@praying4you.org
SUMMARY:Christian Education with Rabbi Hallbrook
DESCRIPTION:The Bigger Picture\nThese feasts follow the spring holy days (Passover\, Unleavened Bread\, Firstfruits\, Pentecost)\, which Christians believe were fulfilled in Jesus’ first coming (death\, resurrection\, sending of the Holy Spirit).\nThe fall feasts in September are often seen as foreshadowing events yet to come: Christ’s return (Trumpets)\, judgment/atonement (Yom Kippur)\, and the establishment of God’s eternal kingdom (Tabernacles). \nJoin Zoom Meeting\nhttps://us02web.zoom.us/j/81750051035?pwd=NBdNpa9MzRyFvBlpIhYPdzcDN7FeKu.1 \nMeeting ID: 817 5005 1035\nPasscode: 815417
URL:https://praying4you.org/event/christian-education-with-rabbi-hollbrook-3/
END:VEVENT
BEGIN:VEVENT
DTSTART;TZID=UTC:20250917T190000
DTEND;TZID=UTC:20250917T200000
DTSTAMP:20260423T172157
CREATED:20250829T000518Z
LAST-MODIFIED:20250904T002007Z
UID:4019-1758135600-1758139200@praying4you.org
SUMMARY:Christian Education with Rabbi Hallbrook
DESCRIPTION:Feast of Tabernacles (Sukkot / Feast of Booths)\n15th–21st of Tishrei (usually late September into October).\nJewish significance: A weeklong celebration remembering how God provided for Israel in the wilderness\, living in tents/booths. It’s a joyful harvest festival\, filled with thanksgiving. \nChristian significance: Points to God dwelling with His people (John 1:14 – “the Word became flesh and dwelt among us”). Prophetically\, it looks forward to the future kingdom of God where Christ reigns and God dwells with man (Revelation 21:3). \nJoin Zoom Meeting\nhttps://us02web.zoom.us/j/81750051035?pwd=NBdNpa9MzRyFvBlpIhYPdzcDN7FeKu.1 \nMeeting ID: 817 5005 1035\nPasscode: 815417
URL:https://praying4you.org/event/christian-education-with-rabbi-hollbrook-2/
END:VEVENT
BEGIN:VEVENT
DTSTART;TZID=UTC:20250913T110000
DTEND;TZID=UTC:20250913T123000
DTSTAMP:20260423T172157
CREATED:20250908T202120Z
LAST-MODIFIED:20250908T202439Z
UID:4049-1757761200-1757766600@praying4you.org
SUMMARY:Real Women\, Real Talk
DESCRIPTION:Join us for a roundtable discussion\, for women\, by women. \n\nZoom Meetinghttps://us02web.zoom.us/j/85046790994…\nMeeting ID: 850 4679 0994Passcode: 803700
URL:https://praying4you.org/event/real-women-real-talk/
END:VEVENT
BEGIN:VEVENT
DTSTART;TZID=UTC:20250910T190000
DTEND;TZID=UTC:20250910T200000
DTSTAMP:20260423T172157
CREATED:20250829T000358Z
LAST-MODIFIED:20250910T224951Z
UID:4017-1757530800-1757534400@praying4you.org
SUMMARY:Christian Education with Rabbi Hallbrook
DESCRIPTION:Day of Atonement (Yom Kippur)\n10th day of Tishrei (usually mid–late September).\nJewish significance: The holiest day of the year—marked by fasting\, prayer\, and repentance. In the Old Testament\, the High Priest entered the Holy of Holies to make atonement for the nation (Leviticus 16). \nChristian significance: Symbolizes Jesus’ atoning sacrifice on the cross. Prophetically\, it points to the final judgment and the ultimate reconciliation of God with His people (Hebrews 9:11–14). \nJoin Zoom Meeting\nhttps://us02web.zoom.us/j/81750051035?pwd=NBdNpa9MzRyFvBlpIhYPdzcDN7FeKu.1 \nMeeting ID: 817 5005 1035\nPasscode: 815417
URL:https://praying4you.org/event/christian-education-with-rabbi-hollbrook/
END:VEVENT
BEGIN:VEVENT
DTSTART;TZID=UTC:20250903T190000
DTEND;TZID=UTC:20250903T200000
DTSTAMP:20260423T172157
CREATED:20250829T000139Z
LAST-MODIFIED:20250903T225551Z
UID:4015-1756926000-1756929600@praying4you.org
SUMMARY:Christian Education with Rabbi Hallbrook
DESCRIPTION:September is often a very significant month on the biblical calendar (especially the Hebrew calendar)\, because several of God’s appointed feasts (holy days) fall during this time. These days are deeply meaningful both to Judaism and to Christians who study biblical prophecy and symbolism. \nJoin Zoom Meeting\nhttps://us02web.zoom.us/j/81750051035?pwd=NBdNpa9MzRyFvBlpIhYPdzcDN7FeKu.1 \nMeeting ID: 817 5005 1035\nPasscode: 815417 \n— \nHere’s the overview of the upcoming Christian Education class for major holy days in September (though dates shift slightly each year because they follow the Hebrew lunar calendar): \n🍇 The Fall Feasts of the Lord (Leviticus 23)\n1. Feast of Trumpets (Rosh Hashanah / Yom Teruah)\nUsually in September (1st day of the 7th Hebrew month\, Tishrei).\nJewish significance: Marks the Jewish New Year\, a time of reflection\, repentance\, and renewal. The shofar (ram’s horn) is blown as a spiritual wake-up call. \nChristian significance: Many see it as pointing to the return of Christ\, heralded by the “last trumpet” (1 Thessalonians 4:16\, 1 Corinthians 15:52). It represents awakening and preparation. \n2. Day of Atonement (Yom Kippur)\n10th day of Tishrei (usually mid–late September).\nJewish significance: The holiest day of the year—marked by fasting\, prayer\, and repentance. In the Old Testament\, the High Priest entered the Holy of Holies to make atonement for the nation (Leviticus 16). \nChristian significance: Symbolizes Jesus’ atoning sacrifice on the cross. Prophetically\, it points to the final judgment and the ultimate reconciliation of God with His people (Hebrews 9:11–14). \n3. Feast of Tabernacles (Sukkot / Feast of Booths)\n15th–21st of Tishrei (usually late September into October).\nJewish significance: A weeklong celebration remembering how God provided for Israel in the wilderness\, living in tents/booths. It’s a joyful harvest festival\, filled with thanksgiving. \nChristian significance: Points to God dwelling with His people (John 1:14 – “the Word became flesh and dwelt among us”). Prophetically\, it looks forward to the future kingdom of God where Christ reigns and God dwells with man (Revelation 21:3). \n✨ The Bigger Picture\nThese feasts follow the spring holy days (Passover\, Unleavened Bread\, Firstfruits\, Pentecost)\, which Christians believe were fulfilled in Jesus’ first coming (death\, resurrection\, sending of the Holy Spirit).\nThe fall feasts in September are often seen as foreshadowing events yet to come: Christ’s return (Trumpets)\, judgment/atonement (Yom Kippur)\, and the establishment of God’s eternal kingdom (Tabernacles). \n👉 In short: The holy days in September are significant because they remind us of repentance\, renewal\, God’s forgiveness\, and His promise to dwell with His people forever. \n 
URL:https://praying4you.org/event/christian-education-with-rabbi-hallbrook/
END:VEVENT
END:VCALENDAR